BEGIN:VCALENDAR
VERSION:2.0
PRODID:-//Spencer Horticultural Solutions - ECPv6.15.20//NONSGML v1.0//EN
CALSCALE:GREGORIAN
METHOD:PUBLISH
X-WR-CALNAME:Spencer Horticultural Solutions
X-ORIGINAL-URL:https://spencer-hort-solutions.ca
X-WR-CALDESC:Events for Spencer Horticultural Solutions
REFRESH-INTERVAL;VALUE=DURATION:PT1H
X-Robots-Tag:noindex
X-PUBLISHED-TTL:PT1H
BEGIN:VTIMEZONE
TZID:America/Edmonton
BEGIN:DAYLIGHT
TZOFFSETFROM:-0700
TZOFFSETTO:-0600
TZNAME:MDT
DTSTART:20190310T090000
END:DAYLIGHT
BEGIN:STANDARD
TZOFFSETFROM:-0600
TZOFFSETTO:-0700
TZNAME:MST
DTSTART:20191103T080000
END:STANDARD
BEGIN:DAYLIGHT
TZOFFSETFROM:-0700
TZOFFSETTO:-0600
TZNAME:MDT
DTSTART:20200308T090000
END:DAYLIGHT
BEGIN:STANDARD
TZOFFSETFROM:-0600
TZOFFSETTO:-0700
TZNAME:MST
DTSTART:20201101T080000
END:STANDARD
BEGIN:DAYLIGHT
TZOFFSETFROM:-0700
TZOFFSETTO:-0600
TZNAME:MDT
DTSTART:20210314T090000
END:DAYLIGHT
BEGIN:STANDARD
TZOFFSETFROM:-0600
TZOFFSETTO:-0700
TZNAME:MST
DTSTART:20211107T080000
END:STANDARD
BEGIN:DAYLIGHT
TZOFFSETFROM:-0700
TZOFFSETTO:-0600
TZNAME:MDT
DTSTART:20220313T090000
END:DAYLIGHT
BEGIN:STANDARD
TZOFFSETFROM:-0600
TZOFFSETTO:-0700
TZNAME:MST
DTSTART:20221106T080000
END:STANDARD
END:VTIMEZONE
BEGIN:VTIMEZONE
TZID:America/Toronto
BEGIN:DAYLIGHT
TZOFFSETFROM:-0500
TZOFFSETTO:-0400
TZNAME:EDT
DTSTART:20190310T070000
END:DAYLIGHT
BEGIN:STANDARD
TZOFFSETFROM:-0400
TZOFFSETTO:-0500
TZNAME:EST
DTSTART:20191103T060000
END:STANDARD
BEGIN:DAYLIGHT
TZOFFSETFROM:-0500
TZOFFSETTO:-0400
TZNAME:EDT
DTSTART:20200308T070000
END:DAYLIGHT
BEGIN:STANDARD
TZOFFSETFROM:-0400
TZOFFSETTO:-0500
TZNAME:EST
DTSTART:20201101T060000
END:STANDARD
BEGIN:DAYLIGHT
TZOFFSETFROM:-0500
TZOFFSETTO:-0400
TZNAME:EDT
DTSTART:20210314T070000
END:DAYLIGHT
BEGIN:STANDARD
TZOFFSETFROM:-0400
TZOFFSETTO:-0500
TZNAME:EST
DTSTART:20211107T060000
END:STANDARD
END:VTIMEZONE
BEGIN:VEVENT
DTSTART;TZID=America/Edmonton:20210113T090000
DTEND;TZID=America/Edmonton:20210113T103000
DTSTAMP:20260423T105355
CREATED:20201209T180115Z
LAST-MODIFIED:20201209T180115Z
UID:1628-1610528400-1610533800@spencer-hort-solutions.ca
SUMMARY:Webinar - Best Practices for working with a co-packer Part 2: Industry Panel
DESCRIPTION:Brought to you by Alberta Agriculture and Forestry \nBest Practices for working with a co-packer webinar 2:  Industry panel \nJanuary 13\, 2021 at 9 AM M.S.T. (1.5 hours) Register now! \nDescription: This second webinar focuses on the practical steps and tips from industry experiences in co-packing. The webinar builds on the Best Practices for Working with a Co-packer introduction webinar of November 4\, 2020. You will hear from a panel of company speakers who have worked with a co-packer to produce their agricultural and food products as well as from a co-packer. This webinar is 90 minutes in length. \nThe panel will provide perspectives from both sides of the co-packing relationship. The company speakers will discuss what steps they took to be ready and how they selected a co-packer. The co-packer will share what a co-packer will require from a company who wishes to co-pack. All will share some of the challenges and tips for how to get the most from a co-packing relationship and work towards a successful outcome. \nFollowing the industry panel presentation and questions\, participants will have an opportunity to participate in a breakout session on co-packing in Alberta. The breakout session will further explore emerging trends\, considerations and sharing of best practices or tips that enable companies to expand sales through co-packing. \nhttps://www.eventbrite.ca/e/best-practices-for-working-with-a-co-packer-webinar-2-industry-panel-tickets-131644471157
URL:https://spencer-hort-solutions.ca/event/webinar-best-practices-for-working-with-a-co-packer-part-2-industry-panel/
LOCATION:Webinar\, Alberta\, Canada
END:VEVENT
BEGIN:VEVENT
DTSTART;TZID=America/Edmonton:20201215T090000
DTEND;TZID=America/Edmonton:20201215T103000
DTSTAMP:20260423T105355
CREATED:20201209T175738Z
LAST-MODIFIED:20201209T175738Z
UID:1626-1608022800-1608028200@spencer-hort-solutions.ca
SUMMARY:Webinar - Marketing & Merchandizing Strategies for Local Business Start-Ups
DESCRIPTION:Brought to you by Alberta Agriculture and Forestry \nMarketing and Merchandizing Strategies for Local Business Start-Ups \nDec 15\, 2020 at 9:00 AM M.S.T. (1.5 hours) Register now! \nDescription: This webinar explores marketing strategies including image\, display\, curb appeal\, merchandising techniques and other tools to attract customers to your business and secure sales. \nSpeakers: Eileen Kotowich and Karen Goad with Alberta Agriculture and Forestry \nhttps://register.gotowebinar.com/register/8836227806381755662
URL:https://spencer-hort-solutions.ca/event/webinar-marketing-merchandizing-strategies-for-local-business-start-ups/
LOCATION:Webinar\, Alberta\, Canada
END:VEVENT
BEGIN:VEVENT
DTSTART;TZID=America/Edmonton:20201118T090000
DTEND;TZID=America/Edmonton:20201118T103000
DTSTAMP:20260423T105355
CREATED:20201029T175743Z
LAST-MODIFIED:20201029T175744Z
UID:1530-1605690000-1605695400@spencer-hort-solutions.ca
SUMMARY:Webinar - The E-Commerce Experience
DESCRIPTION:Join Leduc County for an e-commerce webinar \nThe E-Commerce Experience \nE-commerce is here to stay and its popularity is growing daily. Leduc County\, in collaboration with Alberta Agriculture and Forestry\, is hosting an online webinar about e-commerce. \nThe E-COMMERCE EXPERIENCE webinar will feature panelists that will discuss their experience with the following platforms:\n• WooCommerce\n• Local Line\n• Shopify\n• Local Food Marketplace \nLearn from producers\nListeners will hear from a panel of producers that will share their experiences selling their products online\, including information about the platform they chose\, why they chose it\, what worked well\, what they would change and tips to consider when looking for a platform. \nTo Register – ZOOM LINK
URL:https://spencer-hort-solutions.ca/event/webinar-the-e-commerce-experience/
LOCATION:Webinar\, Alberta\, Canada
ORGANIZER;CN="Leduc County":MAILTO:sharon@leduc-county.com
END:VEVENT
BEGIN:VEVENT
DTSTART;TZID=America/Edmonton:20201104T090000
DTEND;TZID=America/Edmonton:20201104T100000
DTSTAMP:20260423T105355
CREATED:20201013T165032Z
LAST-MODIFIED:20201013T165032Z
UID:1431-1604480400-1604484000@spencer-hort-solutions.ca
SUMMARY:Webinar - Best Practices – Introduction to working with a co-packer
DESCRIPTION:Brought to you by Alberta Agriculture and Forestry \nWebinar – Best Practices – Introduction to working with a co-packer \nJoin us for a webinar on Nov 04\, 2020 at 9:00 AM MST. https://register.gotowebinar.com/register/1941854490832161807 \nAfter registering\, you will receive a confirmation email containing information about joining the webinar. This webinar will be an introduction for food\, beverage and natural health product businesses looking to utilize the services of a co-packer to increase production volumes or meet market requirements. Hear general Information on co-packing and how to determine if you are ready for these services. Learn about resources available for the industry and some tips for starting this relationship off right.
URL:https://spencer-hort-solutions.ca/event/webinar-best-practices-introduction-to-working-with-a-co-packer/
LOCATION:Webinar\, Alberta\, Canada
END:VEVENT
BEGIN:VEVENT
DTSTART;TZID=America/Edmonton:20200818T083000
DTEND;TZID=America/Edmonton:20200819T163000
DTSTAMP:20260423T105355
CREATED:20200413T181857Z
LAST-MODIFIED:20200413T181857Z
UID:691-1597739400-1597854600@spencer-hort-solutions.ca
SUMMARY:Grower Day 2020 (West)
DESCRIPTION:Grower Day 2020 – Cultivating ideas for better growth \nBrought to you by Greenhouse Canada\, Grow Opportunity and Canadian Security \nDate (Western Canada): August 18-19\, 2020 \nLocation: TRADEX Abbotsford\, BC
URL:https://spencer-hort-solutions.ca/event/grower-day-2020-west/
LOCATION:Tradex – Abbotsford\, BC\, 1190 Cornell St\, Abbotsford\, British Columbia\, V2T 6H5\, Canada
END:VEVENT
BEGIN:VEVENT
DTSTART;TZID=America/Toronto:20200728T083000
DTEND;TZID=America/Toronto:20200729T163000
DTSTAMP:20260423T105355
CREATED:20200413T181457Z
LAST-MODIFIED:20200413T181457Z
UID:688-1595925000-1596040200@spencer-hort-solutions.ca
SUMMARY:Grower Day 2020 (East)
DESCRIPTION:Grower Day 2020 – Cultivating ideas for better growth \nBrought to you by Greenhouse Canada\, Grow Opportunity and Canadian Security \nDate (Eastern Canada): July 28-29\, 2020 \nLocation: Holiday Inn Hotel and Suites\, St. Catharines\, ON
URL:https://spencer-hort-solutions.ca/event/grower-day-2020-east/
LOCATION:Holiday Inn Hotel and Suites\, St. Catharines\, ON\, 327 Ontario St\, St. Catharines\, Ontario\, L2R 5L3\, Canada
END:VEVENT
BEGIN:VEVENT
DTSTART;TZID=America/Edmonton:20200625T113000
DTEND;TZID=America/Edmonton:20200625T123000
DTSTAMP:20260423T105355
CREATED:20200611T160452Z
LAST-MODIFIED:20200611T160452Z
UID:1033-1593084600-1593088200@spencer-hort-solutions.ca
SUMMARY:Webinar - Pricing 101 - Adjusting for Change
DESCRIPTION:Presented by Alberta Agriculture and Forestry \nPricing 101 – Adjusting for change – webinar \nThursday\, June 25\, 2020 – 11:30 AM MDT \nDescription: With a clear understanding of what your actual costs are\, you are well positioned to determine a fair price for your food products. Are your prices accurate? Are you leaving money on the table or charging too much? Attend this webinar to hear Marissa Brewer\, with Alberta Agriculture and Forestry discuss the basics of pricing and how change can affect your price.
URL:https://spencer-hort-solutions.ca/event/webinar-pricing-101-adjusting-for-change/
LOCATION:Webinar\, Alberta\, Canada
END:VEVENT
BEGIN:VEVENT
DTSTART;TZID=America/Edmonton:20200618T113000
DTEND;TZID=America/Edmonton:20200618T123000
DTSTAMP:20260423T105355
CREATED:20200611T160213Z
LAST-MODIFIED:20200611T160213Z
UID:1031-1592479800-1592483400@spencer-hort-solutions.ca
SUMMARY:Webinar - Know Your Cost of Production / Break Even Points
DESCRIPTION:Presented by Alberta Agriculture and Forestry \n Know Your Cost of Production/Break Even Points – webinar \nThursday\, June 18\, 2020 – 11:30 AM MDT \nDescription: You need a good understanding of how to determine your product costs before you can talk price. This webinar will explore the importance of knowing your actual cost of production and provide insight on how to determine your breakeven point. We will also look at how use that knowledge to make sound business decisions. Join Marissa Brewer\, new venture specialist with Alberta Agriculture and Forestry as she helps you solve the mystery of pricing your food products.
URL:https://spencer-hort-solutions.ca/event/webinar-know-your-cost-of-production-break-even-points/
LOCATION:Webinar\, Alberta\, Canada
END:VEVENT
BEGIN:VEVENT
DTSTART;TZID=America/Edmonton:20200603T120000
DTEND;TZID=America/Edmonton:20200603T130000
DTSTAMP:20260423T105355
CREATED:20200528T152157Z
LAST-MODIFIED:20200528T152157Z
UID:989-1591185600-1591189200@spencer-hort-solutions.ca
SUMMARY:Webinar: Understanding Fiber Growing Containers through Real-World Applications
DESCRIPTION:Presented by Greenhouse Canada Magazine \nWednesday\, June 3\, 2020 @ 2PM ET (12NOON MT) \nThere are many challenges the organic grower faces on any given day\, many stressors which the traditional grower doesn’t often wrestle with when cultivating their crops. While diseases\, soil conditions\, weeds\, watering and governmental regulations are commonalities for all growers across North America\, in order for crops to be certified organic\, growers must adhere to strict guidelines\, daunting paperwork and mandated compliance throughout the growing process. Fiber growing containers provide a sustainable\, biodegradable\, certified solution for organic growers. \nIn this webinar\, The HC Companies will highlight how our EcoGrow® Organic Growing Containers can be successfully implemented in real-world growing conditions by providing results from actual trials done by actual growers in the horticultural industry. We’ll discuss growing environments\, irrigation\, retail sales\, performance and degradation so you can determine if fiber growing containers are the right solution for your operation. \nAttendees will have the opportunity to request a FREE Sample Kit of EcoGrow® products at the end of the webinar.
URL:https://spencer-hort-solutions.ca/event/webinar-understanding-fiber-growing-containers-through-real-world-applications/
LOCATION:Webinar\, Alberta\, Canada
END:VEVENT
BEGIN:VEVENT
DTSTART;TZID=America/Edmonton:20200528T120000
DTEND;TZID=America/Edmonton:20200528T130000
DTSTAMP:20260423T105355
CREATED:20200514T154509Z
LAST-MODIFIED:20200514T154509Z
UID:965-1590667200-1590670800@spencer-hort-solutions.ca
SUMMARY:Virtual Potato Scouting Review - Physiological Disorders
DESCRIPTION:Virtual potato scouting review with Eugenia Banks\nSponsored by BASF \nBrought to you by Potatoes in Canada Magazine \nGiven COVID-19\, Eugenia Banks\, potato specialist with the Ontario Potato Board\, is bringing her annual training day online to a live webinar series to ensure scouts and growers are prepared for the 2020 growing season. Free and interactive\, three-part webinar series discussing the common diseases\, insects and physiological disorders affecting potatoes during the growing season. \nSession 1: Diseases – 11AM EDT (9AM MDT) – Thursday May 21\, 2020 \nSession 2: Insects – 2PM EDT (12PM MDT) – Thursday May 21\, 2020 \nSession 3: Physiological Disorders & Injuries – 2PM EDT (12PM MDT) – Thursday May 28\, 2020\nThese sessions are approved for three CCA-CEU credits: two in integrated pest management and one in crop management.
URL:https://spencer-hort-solutions.ca/event/virtual-potato-scouting-review-physiological-disorders/
LOCATION:Webinar\, Alberta\, Canada
END:VEVENT
BEGIN:VEVENT
DTSTART;TZID=America/Edmonton:20200521T120000
DTEND;TZID=America/Edmonton:20200521T130000
DTSTAMP:20260423T105355
CREATED:20200514T154340Z
LAST-MODIFIED:20200514T154340Z
UID:963-1590062400-1590066000@spencer-hort-solutions.ca
SUMMARY:Virtual Potato Scouting Review - Insects
DESCRIPTION:Virtual potato scouting review with Eugenia Banks\nSponsored by BASF \nBrought to you by Potatoes in Canada Magazine \nGiven COVID-19\, Eugenia Banks\, potato specialist with the Ontario Potato Board\, is bringing her annual training day online to a live webinar series to ensure scouts and growers are prepared for the 2020 growing season. Free and interactive\, three-part webinar series discussing the common diseases\, insects and physiological disorders affecting potatoes during the growing season. \nSession 1: Diseases – 11AM EDT (9AM MDT) – Thursday May 21\, 2020 \nSession 2: Insects – 2PM EDT (12PM MDT) – Thursday May 21\, 2020\nSession 3: Physiological Disorders & Injuries – 2PM EDT (12PM MDT) – Thursday May 28\, 2020 \nThese sessions are approved for three CCA-CEU credits: two in integrated pest management and one in crop management.
URL:https://spencer-hort-solutions.ca/event/virtual-potato-scouting-review-insects/
LOCATION:Webinar\, Alberta\, Canada
END:VEVENT
BEGIN:VEVENT
DTSTART;TZID=America/Edmonton:20200521T090000
DTEND;TZID=America/Edmonton:20200521T100000
DTSTAMP:20260423T105355
CREATED:20200514T154139Z
LAST-MODIFIED:20200514T154139Z
UID:960-1590051600-1590055200@spencer-hort-solutions.ca
SUMMARY:Virtual potato scouting review - Diseases
DESCRIPTION:Virtual potato scouting review with Eugenia Banks\nSponsored by BASF \nBrought to you by Potatoes in Canada Magazine \nGiven COVID-19\, Eugenia Banks\, potato specialist with the Ontario Potato Board\, is bringing her annual training day online to a live webinar series to ensure scouts and growers are prepared for the 2020 growing season. Free and interactive\, three-part webinar series discussing the common diseases\, insects and physiological disorders affecting potatoes during the growing season. \nSession 1: Diseases – 11AM EDT (9AM MDT) – Thursday May 21\, 2020\nSession 2: Insects – 2PM EDT (12PM MDT) – Thursday May 21\, 2020 \nSession 3: Physiological Disorders & Injuries – 2PM EDT (12PM MDT) – Thursday May 28\, 2020 \nThese sessions are approved for three CCA-CEU credits: two in integrated pest management and one in crop management.
URL:https://spencer-hort-solutions.ca/event/virtual-potato-scouting-review-diseases/
LOCATION:Webinar\, Alberta\, Canada
END:VEVENT
BEGIN:VEVENT
DTSTART;TZID=America/Edmonton:20200507T140000
DTEND;TZID=America/Edmonton:20200507T150000
DTSTAMP:20260423T105355
CREATED:20200422T155054Z
LAST-MODIFIED:20200422T155054Z
UID:851-1588860000-1588863600@spencer-hort-solutions.ca
SUMMARY:Webinar - Selling Food in Alberta? Know the Regulations
DESCRIPTION:Webinar – presented by Chinook Applied Research Association (CARA) \nDate: May 7\, 2020 @ 2 pm MDT \nIf you are new to or considering selling food in Alberta\, join Eileen Kotowich and Karen Goad for a quick review of the regulations you need to know before selling food in Alberta. Know that different regulations apply to different market channels and different types of food. Understand the regulatory agency roles\, build your industry network and learn where to get more information. This webinar is being put on in conjunction with the Chinook Applied Research Association (CARA). CARA is a producer-directed society dedicated to expanding agricultural research activity in the Special Areas and MD of Acadia. Our program of applied research\, demonstration and extension projects provides a link in the transfer of knowledge and technology between research and the producer. \nClick to register
URL:https://spencer-hort-solutions.ca/event/webinar-selling-food-in-alberta-know-the-regulations/
LOCATION:Webinar\, Alberta\, Canada
END:VEVENT
BEGIN:VEVENT
DTSTART;TZID=America/Edmonton:20200505T140000
DTEND;TZID=America/Edmonton:20200505T150000
DTSTAMP:20260423T105355
CREATED:20200422T155306Z
LAST-MODIFIED:20200422T155306Z
UID:854-1588687200-1588690800@spencer-hort-solutions.ca
SUMMARY:Webinar - Local Food Market Channels - an Overview
DESCRIPTION:Webinar – presented by Chinook Applied Research Association \nDate: May 5\, 2020 @ 2pm \nThis webinar is for producers who are considering selling food in Alberta. Eileen Kotowich\, farmers’ market specialist and Karen Goad\, farm direct marketing specialist with Alberta Agriculture and Forestry will discuss the scope of the local food opportunity in Alberta and market strategies for selling food products direct to consumers. We will explore the advantages and challenges of common market channel options including farmers’ market and farm gate sales\, online\, foodservice\, retail and more. This webinar is being put on in conjunction with the Chinook Applied Research Association (CARA). CARA is a producer-directed society dedicated to expanding agricultural research activity in the Special Areas and MD of Acadia. Our program of applied research\, demonstration and extension projects provides a link in the transfer of knowledge and technology between research and the producer. \nClick to Register
URL:https://spencer-hort-solutions.ca/event/webinar-local-food-market-channels-an-overview/
LOCATION:Webinar\, Alberta\, Canada
END:VEVENT
BEGIN:VEVENT
DTSTART;TZID=America/Edmonton:20200429T120000
DTEND;TZID=America/Edmonton:20200429T130000
DTSTAMP:20260423T105355
CREATED:20200420T152245Z
LAST-MODIFIED:20200420T152245Z
UID:793-1588161600-1588165200@spencer-hort-solutions.ca
SUMMARY:Webinar - Dealing with rugose at the border
DESCRIPTION:Presented by Greenhouse Canada Magazine \nWebinar – Dealing with rugose at the border \nWebinar description:\nWith cases of the tomato brown rugose fruit virus (ToBRFV) appearing in different countries across the globe\, regulatory agencies are trying to limit its spread. Hear about the impacts of ToBRFV on US and Canadian growers\, with particular emphasis on the US Federal Order introduced last November. \nSpeaker: Michael Bledsoe\, PhD\, Vice President\, Food Safety and Regulatory Affairs\, Village Farms \nDate: Wednesday\, April 29\, 2020 @ 12 noon – 1 pm MT (2-3 pm ET)
URL:https://spencer-hort-solutions.ca/event/webinar-dealing-with-rugose-at-the-border/
LOCATION:Webinar\, Alberta\, Canada
END:VEVENT
BEGIN:VEVENT
DTSTART;TZID=America/Edmonton:20200428T120000
DTEND;TZID=America/Edmonton:20200428T130000
DTSTAMP:20260423T105355
CREATED:20200420T152049Z
LAST-MODIFIED:20200420T152049Z
UID:791-1588075200-1588078800@spencer-hort-solutions.ca
SUMMARY:Webinar - Keeping out the Rugose
DESCRIPTION:Presented by Greenhouse Canada Magazine \nWebinar – Keeping out the Rugose \nWebinar description:\nSince its first sighting in 2014\, the tomato brown rugose fruit virus (ToBRFV) has been found in different parts of the world. Learn about its symptoms and pathways for transmission. Take these preventative measures and enhance the biosecurity of your greenhouse. \nSpeaker: Cara McCreary\, Greenhouse vegetable IPM specialist\, Ontario Ministry of Agriculture\, Food and Rural Affairs \nDate: Tuesday\, April 28\, 2020 @ 12 noon – 1 pm MT (2-3 pm ET)
URL:https://spencer-hort-solutions.ca/event/webinar-keeping-out-the-rugose/
LOCATION:Webinar\, Alberta\, Canada
END:VEVENT
BEGIN:VEVENT
DTSTART;TZID=America/Edmonton:20200421T070000
DTEND;TZID=America/Edmonton:20200421T080000
DTSTAMP:20260423T105355
CREATED:20200414T164043Z
LAST-MODIFIED:20200414T164803Z
UID:714-1587452400-1587456000@spencer-hort-solutions.ca
SUMMARY:Webinar - Garden retail in the age of COVID
DESCRIPTION:Presented by Greenhouse Canada Magazine \nWebinar – Garden retail in the age of COVID \nWebinar description:\nCOVID has changed how consumers shop. Unless independent garden centres change up their retail options\, their businesses will continue to take a hit. International retail guru\, John Stanley\, gets to the root of the challenge in Canada and in the world\, and shares insights on what IGCs can do\, and are doing\, to move product and engage their audience both current and new. \nSpeaker: John Stanley\, Retail Speaker and Consultant \nDate: Monday\, April 21\, 2020 @ 7-8am MT (9-10 am ET) \nWEBINAR: Garden retail in the age of COVID \n \nRegister to reserve your spot (and/or to get a copy of the recording emailed to you afterwards)
URL:https://spencer-hort-solutions.ca/event/webinar-garden-retail-in-the-age-of-covid/
LOCATION:Webinar\, Alberta\, Canada
END:VEVENT
BEGIN:VEVENT
DTSTART;TZID=America/Edmonton:20200416T120000
DTEND;TZID=America/Edmonton:20200416T130000
DTSTAMP:20260423T105355
CREATED:20200414T150651Z
LAST-MODIFIED:20200414T164941Z
UID:708-1587038400-1587042000@spencer-hort-solutions.ca
SUMMARY:Webinar - COVID Protocols in the Greenhouse
DESCRIPTION:Presented by Greenhouse Canada Magazine \nWebinar – COVID-19 Protocols in the Greenhouse \nSpeaker: Jennifer Wright – Canadian Agricultural Human Resources Council (CAHRC) \nDate: April 16\, 2020 @ 12 Noon – 1 pm MT (2-3pm ET) \nRegister to secure your spot (and to receive the recording via email)
URL:https://spencer-hort-solutions.ca/event/webinar-covid-protocols-in-the-greenhouse/
LOCATION:Webinar\, Alberta\, Canada
END:VEVENT
BEGIN:VEVENT
DTSTART;TZID=America/Edmonton:20200416T100000
DTEND;TZID=America/Edmonton:20200416T110000
DTSTAMP:20260423T105355
CREATED:20200408T182214Z
LAST-MODIFIED:20200408T182214Z
UID:386-1587031200-1587034800@spencer-hort-solutions.ca
SUMMARY:Alternative Market Channels to Retail & Food Service - Webinar
DESCRIPTION:WEBINAR – Alternative Market Channels to Retail and Food Service \nOffered by Alberta Agriculture and Forestry \nDATE: 16 April\, 2020 \nTIME: 10:00 a.m. – 11:00 a.m. \nhttps://register.gotowebinar.com/register/5490306163352447243 \nMany Alberta food entrepreneurs are familiar with the traditional market options available for them to sell their products – from farmers’ markets to food service to retail. But there are many other options that may be less well known. Margurite Thiessen will talk about the opportunity to access new markets including online\, major sporting events and more.
URL:https://spencer-hort-solutions.ca/event/alternative-market-channels-to-retail-food-service-webinar/
LOCATION:Webinar\, Alberta\, Canada
END:VEVENT
END:VCALENDAR